10.160000000000
0.000000000000
0.000000000000
-10.160000000000
241252.208298045065
4490007.383056660183
