10.160000
0
0
-10.160000
660278.717015
4602921.817585
