10.160000
0.000000
0.000000
-10.160000
495642.829854
4653338.988782
