10.160000
0.000000
0.000000
-10.160000
664001.254994
4601265.744425
