10.15999961
0.00000000
0.00000000
-10.15999961
578299.89160609
4820922.44384486
