10.160000000000
0.000000000000
0.000000000000
-10.160000000000
329177.096453800390
4598575.512502184100
