10.160000000000
0.000000000000
0.000000000000
-10.160000000000
580250.551820433000
4654352.060608154163
