10.160000
0.000000
0.000000
-10.160000
666452.204532
4489954.146108
