2.438400000000
0.000000000000
0.000000000000
-2.438400000000
695376.590832726331
4667412.850587391290
