2.438400000000
0.000000000000
0.000000000000
-2.438400000000
664059.744388855411
4680448.549969294100
