2.438400000000
0.000000000000
0.000000000000
-2.438400000000
736705.084037114051
4668749.252842263310
