2.438400000000
0.000000000000
0.000000000000
-2.438400000000
724577.122082425397
4723914.059441104530
