2.438400000000
0.000000000000
0.000000000000
-2.438400000000
672270.981713570890
4763992.420876466700
