2.438400000000
0.000000000000
0.000000000000
-2.438400000000
726373.630413234117
4668391.489143925710
