2.438400000000
0.000000000000
0.000000000000
-2.438400000000
723668.710074385744
4751675.020562138400
