2.438400000000
0.000000000000
0.000000000000
-2.438400000000
733883.473244340857
4752028.882121998810
