2.438400000000
0.000000000000
0.000000000000
-2.438400000000
693432.225400955532
4736812.563417648890
