2.438400000000
0.000000000000
0.000000000000
-2.438400000000
662747.316752789658
4735970.100180899720
