2.438400000000
0.000000000000
0.000000000000
-2.438400000000
663076.094919895753
4722090.789997418410
