2.438400000000
0.000000000000
0.000000000000
-2.438400000000
724122.288086407468
4737795.932717111890
