2.438400000000
0.000000000000
0.000000000000
-2.438400000000
714760.611219269689
4709688.270124326460
