2.438400000000
0.000000000000
0.000000000000
-2.438400000000
692647.328930686580
4764574.276341961700
