2.438400000000
0.000000000000
0.000000000000
-2.438400000000
581242.716131317080
4706617.172931608700
