2.438400000000
0.000000000000
0.000000000000
-2.438400000000
642860.443416707330
4707718.714130874700
