2.438400000000
0.000000000000
0.000000000000
-2.438400000000
581566.584500655300
4678859.817163491600
