2.438400000000
0.000000000000
0.000000000000
-2.438400000000
622074.959358624760
4721171.079795692100
