2.438400000000
0.000000000000
0.000000000000
-2.438400000000
581730.181586009100
4664979.857627488700
