2.438400000000
0.000000000000
0.000000000000
-2.438400000000
622815.443382665750
4679530.052491753400
