2.438400000000
0.000000000000
0.000000000000
-2.438400000000
622324.355748178550
4707289.609315048900
