2.438400000000
0.000000000000
0.000000000000
-2.438400000000
600957.144828618390
4762447.582631496700
