2.438400000000
0.000000000000
0.000000000000
-2.438400000000
611144.994039142390
4762623.580495983400
