2.438400000000
0.000000000000
0.000000000000
-2.438400000000
530354.170629704836
4636577.579413213760
