2.438400000000
0.000000000000
0.000000000000
-2.438400000000
572125.887407908332
4609186.275045998390
