2.438400000000
0.000000000000
0.000000000000
-2.438400000000
561710.358590148040
4609075.296758243810
