2.438400000000
0.000000000000
0.000000000000
-2.438400000000
561468.191338968812
4636830.628967479800
