2.438400000000
0.000000000000
0.000000000000
-2.438400000000
499236.126735852856
4636460.625415842980
