2.438400000000
0.000000000000
0.000000000000
-2.438400000000
520061.525157352734
4608769.030210132710
