2.438400000000
0.000000000000
0.000000000000
-2.438400000000
530654.515476048341
4567192.336713796480
