2.438400000000
0.000000000000
0.000000000000
-2.438400000000
499238.253682075592
4567075.370517833150
