2.438400000000
0.000000000000
0.000000000000
-2.438400000000
509729.061594663828
4553223.373193772500
