2.438400000000
0.000000000000
0.000000000000
-2.438400000000
551700.317800594377
4553467.812501708040
