2.438400000000
0.000000000000
0.000000000000
-2.438400000000
540887.071407189243
4608890.153613173400
