2.438400000000
0.000000000000
0.000000000000
-2.438400000000
415910.394493191096
4623064.313546138816
