2.438400000000
0.000000000000
0.000000000000
-2.438400000000
488762.910352191015
4580947.930165895261
