2.438400000000
0.000000000000
0.000000000000
-2.438400000000
416071.609362065967
4636941.963964631781
