2.438400000000
0.000000000000
0.000000000000
-2.438400000000
478443.091786704084
4636484.653465123847
