2.438400000000
0.000000000000
0.000000000000
-2.438400000000
478485.177083290007
4650361.481512572616
