2.438400000000
0.000000000000
0.000000000000
-2.438400000000
488836.636330668698
4636464.004587216303
