2.438400000000
0.000000000000
0.000000000000
-2.438400000000
478405.026492355682
4622603.156791594811
