2.438400000000
0.000000000000
0.000000000000
-2.438400000000
436262.096220805892
4567342.425392458215
